BEGIN:VCALENDAR
VERSION:2.0
PRODID:https://www.kufer.de/kuferweb / DE
METHOD:PUBLISH
CALSCALE:GREGORIAN
X-WR-TIMEZONE:Europe/Berlin
BEGIN:VTIMEZONE
TZID:Europe/Berlin
X-LIC-LOCATION:Europe/Berlin
BEGIN:DAYLIGHT
TZOFFSETFROM:+0100
TZOFFSETTO:+0200
TZNAME:CEST
DTSTART:19700329T020000
RRULE:FREQ=YEARLY;INTERVAL=1;BYDAY=-1SU;BYMONTH=3
END:DAYLIGHT
BEGIN:STANDARD
TZOFFSETFROM:+0200
TZOFFSETTO:+0100
TZNAME:CET
DTSTART:19701025T030000
RRULE:FREQ=YEARLY;INTERVAL=1;BYDAY=-1SU;BYMONTH=10
END:STANDARD
END:VTIMEZONE
BEGIN:VEVENT
DTSTAMP:20260421T145437
DTSTART;TZID=Europe/Berlin:20260213T110000
DTEND;TZID=Europe/Berlin:20260213T123000
UID:261D030203-20260213T110000@VHS KREISOFFENBACH
SUMMARY:Pilates und Entspannung (261D030203) 
LOCATION:Haus des Lebenslangen Lernens, Raum 6.106, Frankfurter Str. 160-166, 63303 Dreieich
END:VEVENT
BEGIN:VEVENT
DTSTAMP:20260421T145437
DTSTART;TZID=Europe/Berlin:20260220T110000
DTEND;TZID=Europe/Berlin:20260220T123000
UID:261D030203-20260220T110000@VHS KREISOFFENBACH
SUMMARY:Pilates und Entspannung (261D030203) 
LOCATION:Haus des Lebenslangen Lernens, Raum 8.108, Frankfurter Str. 160-166, 63303 Dreieich
END:VEVENT
BEGIN:VEVENT
DTSTAMP:20260421T145437
DTSTART;TZID=Europe/Berlin:20260227T110000
DTEND;TZID=Europe/Berlin:20260227T123000
UID:261D030203-20260227T110000@VHS KREISOFFENBACH
SUMMARY:Pilates und Entspannung (261D030203) 
LOCATION:Haus des Lebenslangen Lernens, Raum 6.106, Frankfurter Str. 160-166, 63303 Dreieich
END:VEVENT
BEGIN:VEVENT
DTSTAMP:20260421T145437
DTSTART;TZID=Europe/Berlin:20260306T110000
DTEND;TZID=Europe/Berlin:20260306T123000
UID:261D030203-20260306T110000@VHS KREISOFFENBACH
SUMMARY:Pilates und Entspannung (261D030203) 
LOCATION:Haus des Lebenslangen Lernens, Raum 6.106, Frankfurter Str. 160-166, 63303 Dreieich
END:VEVENT
BEGIN:VEVENT
DTSTAMP:20260421T145437
DTSTART;TZID=Europe/Berlin:20260313T110000
DTEND;TZID=Europe/Berlin:20260313T123000
UID:261D030203-20260313T110000@VHS KREISOFFENBACH
SUMMARY:Pilates und Entspannung (261D030203) 
LOCATION:Haus des Lebenslangen Lernens, Raum 6.106, Frankfurter Str. 160-166, 63303 Dreieich
END:VEVENT
BEGIN:VEVENT
DTSTAMP:20260421T145437
DTSTART;TZID=Europe/Berlin:20260327T110000
DTEND;TZID=Europe/Berlin:20260327T123000
UID:261D030203-20260327T110000@VHS KREISOFFENBACH
SUMMARY:Pilates und Entspannung (261D030203) 
LOCATION:Haus des Lebenslangen Lernens, Raum 6.106, Frankfurter Str. 160-166, 63303 Dreieich
END:VEVENT
BEGIN:VEVENT
DTSTAMP:20260421T145437
DTSTART;TZID=Europe/Berlin:20260410T110000
DTEND;TZID=Europe/Berlin:20260410T123000
UID:261D030203-20260410T110000@VHS KREISOFFENBACH
SUMMARY:Pilates und Entspannung (261D030203) 
LOCATION:Haus des Lebenslangen Lernens, Tagungsraum 2.001, Aula, Frankfurter Str. 160-166, 63303 Dreieich
END:VEVENT
BEGIN:VEVENT
DTSTAMP:20260421T145437
DTSTART;TZID=Europe/Berlin:20260417T110000
DTEND;TZID=Europe/Berlin:20260417T123000
UID:261D030203-20260417T110000@VHS KREISOFFENBACH
SUMMARY:Pilates und Entspannung (261D030203) 
LOCATION:Haus des Lebenslangen Lernens, Raum 6.106, Frankfurter Str. 160-166, 63303 Dreieich
END:VEVENT
BEGIN:VEVENT
DTSTAMP:20260421T145437
DTSTART;TZID=Europe/Berlin:20260508T110000
DTEND;TZID=Europe/Berlin:20260508T123000
UID:261D030203-20260508T110000@VHS KREISOFFENBACH
SUMMARY:Pilates und Entspannung (261D030203) 
LOCATION:Haus des Lebenslangen Lernens, Raum 8.104, Frankfurter Str. 160-166, 63303 Dreieich
END:VEVENT
BEGIN:VEVENT
DTSTAMP:20260421T145437
DTSTART;TZID=Europe/Berlin:20260515T110000
DTEND;TZID=Europe/Berlin:20260515T123000
UID:261D030203-20260515T110000@VHS KREISOFFENBACH
SUMMARY:Pilates und Entspannung (261D030203) 
LOCATION:Haus des Lebenslangen Lernens, Raum 8.104, Frankfurter Str. 160-166, 63303 Dreieich
END:VEVENT
BEGIN:VEVENT
DTSTAMP:20260421T145437
DTSTART;TZID=Europe/Berlin:20260529T110000
DTEND;TZID=Europe/Berlin:20260529T123000
UID:261D030203-20260529T110000@VHS KREISOFFENBACH
SUMMARY:Pilates und Entspannung (261D030203) 
LOCATION:Haus des Lebenslangen Lernens, Raum 8.104, Frankfurter Str. 160-166, 63303 Dreieich
END:VEVENT
BEGIN:VEVENT
DTSTAMP:20260421T145437
DTSTART;TZID=Europe/Berlin:20260605T110000
DTEND;TZID=Europe/Berlin:20260605T123000
UID:261D030203-20260605T110000@VHS KREISOFFENBACH
SUMMARY:Pilates und Entspannung (261D030203) 
LOCATION:Haus des Lebenslangen Lernens, Raum 8.104, Frankfurter Str. 160-166, 63303 Dreieich
END:VEVENT
BEGIN:VEVENT
DTSTAMP:20260421T145437
DTSTART;TZID=Europe/Berlin:20260612T110000
DTEND;TZID=Europe/Berlin:20260612T123000
UID:261D030203-20260612T110000@VHS KREISOFFENBACH
SUMMARY:Pilates und Entspannung (261D030203) 
LOCATION:Haus des Lebenslangen Lernens, Raum 8.104, Frankfurter Str. 160-166, 63303 Dreieich
END:VEVENT
BEGIN:VEVENT
DTSTAMP:20260421T145437
DTSTART;TZID=Europe/Berlin:20260619T110000
DTEND;TZID=Europe/Berlin:20260619T123000
UID:261D030203-20260619T110000@VHS KREISOFFENBACH
SUMMARY:Pilates und Entspannung (261D030203) 
LOCATION:Haus des Lebenslangen Lernens, Raum 8.104, Frankfurter Str. 160-166, 63303 Dreieich
END:VEVENT
BEGIN:VEVENT
DTSTAMP:20260421T145437
DTSTART;TZID=Europe/Berlin:20260626T110000
DTEND;TZID=Europe/Berlin:20260626T123000
UID:261D030203-20260626T110000@VHS KREISOFFENBACH
DESCRIPTION:Ersatz für Ausfall am 22.05.2026
SUMMARY:Pilates und Entspannung (261D030203) 
LOCATION:Haus des Lebenslangen Lernens, Raum 8.104, Frankfurter Str. 160-166, 63303 Dreieich
END:VEVENT
END:VCALENDAR