BEGIN:VCALENDAR
VERSION:2.0
PRODID:https://www.kufer.de/kuferweb / DE
METHOD:PUBLISH
CALSCALE:GREGORIAN
X-WR-TIMEZONE:Europe/Berlin
BEGIN:VTIMEZONE
TZID:Europe/Berlin
X-LIC-LOCATION:Europe/Berlin
BEGIN:DAYLIGHT
TZOFFSETFROM:+0100
TZOFFSETTO:+0200
TZNAME:CEST
DTSTART:19700329T020000
RRULE:FREQ=YEARLY;INTERVAL=1;BYDAY=-1SU;BYMONTH=3
END:DAYLIGHT
BEGIN:STANDARD
TZOFFSETFROM:+0200
TZOFFSETTO:+0100
TZNAME:CET
DTSTART:19701025T030000
RRULE:FREQ=YEARLY;INTERVAL=1;BYDAY=-1SU;BYMONTH=10
END:STANDARD
END:VTIMEZONE
BEGIN:VEVENT
DTSTAMP:20260421T174520
DTSTART;TZID=Europe/Berlin:20260223T180000
DTEND;TZID=Europe/Berlin:20260223T211500
UID:261D040468-20260223T180000@VHS KREISOFFENBACH
SUMMARY:Deutsch als Fremdsprache B2 (261D040468) 
LOCATION:Haus des Lebenslangen Lernens, Raum 4.209, Frankfurter Str. 160-166, 63303 Dreieich
END:VEVENT
BEGIN:VEVENT
DTSTAMP:20260421T174520
DTSTART;TZID=Europe/Berlin:20260224T180000
DTEND;TZID=Europe/Berlin:20260224T211500
UID:261D040468-20260224T180000@VHS KREISOFFENBACH
SUMMARY:Deutsch als Fremdsprache B2 (261D040468) 
LOCATION:Haus des Lebenslangen Lernens, Raum 4.209, Frankfurter Str. 160-166, 63303 Dreieich
END:VEVENT
BEGIN:VEVENT
DTSTAMP:20260421T174520
DTSTART;TZID=Europe/Berlin:20260225T180000
DTEND;TZID=Europe/Berlin:20260225T211500
UID:261D040468-20260225T180000@VHS KREISOFFENBACH
SUMMARY:Deutsch als Fremdsprache B2 (261D040468) 
LOCATION:Haus des Lebenslangen Lernens, Raum 4.209, Frankfurter Str. 160-166, 63303 Dreieich
END:VEVENT
BEGIN:VEVENT
DTSTAMP:20260421T174520
DTSTART;TZID=Europe/Berlin:20260302T180000
DTEND;TZID=Europe/Berlin:20260302T211500
UID:261D040468-20260302T180000@VHS KREISOFFENBACH
SUMMARY:Deutsch als Fremdsprache B2 (261D040468) 
LOCATION:Haus des Lebenslangen Lernens, Raum 4.209, Frankfurter Str. 160-166, 63303 Dreieich
END:VEVENT
BEGIN:VEVENT
DTSTAMP:20260421T174520
DTSTART;TZID=Europe/Berlin:20260303T180000
DTEND;TZID=Europe/Berlin:20260303T211500
UID:261D040468-20260303T180000@VHS KREISOFFENBACH
SUMMARY:Deutsch als Fremdsprache B2 (261D040468) 
LOCATION:Haus des Lebenslangen Lernens, Raum 4.209, Frankfurter Str. 160-166, 63303 Dreieich
END:VEVENT
BEGIN:VEVENT
DTSTAMP:20260421T174520
DTSTART;TZID=Europe/Berlin:20260304T180000
DTEND;TZID=Europe/Berlin:20260304T211500
UID:261D040468-20260304T180000@VHS KREISOFFENBACH
SUMMARY:Deutsch als Fremdsprache B2 (261D040468) 
LOCATION:Haus des Lebenslangen Lernens, Raum 4.209, Frankfurter Str. 160-166, 63303 Dreieich
END:VEVENT
BEGIN:VEVENT
DTSTAMP:20260421T174520
DTSTART;TZID=Europe/Berlin:20260309T180000
DTEND;TZID=Europe/Berlin:20260309T211500
UID:261D040468-20260309T180000@VHS KREISOFFENBACH
SUMMARY:Deutsch als Fremdsprache B2 (261D040468) 
LOCATION:Haus des Lebenslangen Lernens, Raum 4.209, Frankfurter Str. 160-166, 63303 Dreieich
END:VEVENT
BEGIN:VEVENT
DTSTAMP:20260421T174520
DTSTART;TZID=Europe/Berlin:20260310T180000
DTEND;TZID=Europe/Berlin:20260310T211500
UID:261D040468-20260310T180000@VHS KREISOFFENBACH
SUMMARY:Deutsch als Fremdsprache B2 (261D040468) 
LOCATION:Haus des Lebenslangen Lernens, Raum 4.209, Frankfurter Str. 160-166, 63303 Dreieich
END:VEVENT
BEGIN:VEVENT
DTSTAMP:20260421T174520
DTSTART;TZID=Europe/Berlin:20260311T180000
DTEND;TZID=Europe/Berlin:20260311T211500
UID:261D040468-20260311T180000@VHS KREISOFFENBACH
SUMMARY:Deutsch als Fremdsprache B2 (261D040468) 
LOCATION:Haus des Lebenslangen Lernens, Raum 4.209, Frankfurter Str. 160-166, 63303 Dreieich
END:VEVENT
BEGIN:VEVENT
DTSTAMP:20260421T174520
DTSTART;TZID=Europe/Berlin:20260317T180000
DTEND;TZID=Europe/Berlin:20260317T211500
UID:261D040468-20260317T180000@VHS KREISOFFENBACH
SUMMARY:Deutsch als Fremdsprache B2 (261D040468) 
LOCATION:Haus des Lebenslangen Lernens, Raum 4.209, Frankfurter Str. 160-166, 63303 Dreieich
END:VEVENT
BEGIN:VEVENT
DTSTAMP:20260421T174520
DTSTART;TZID=Europe/Berlin:20260318T180000
DTEND;TZID=Europe/Berlin:20260318T211500
UID:261D040468-20260318T180000@VHS KREISOFFENBACH
SUMMARY:Deutsch als Fremdsprache B2 (261D040468) 
LOCATION:Haus des Lebenslangen Lernens, Raum 4.209, Frankfurter Str. 160-166, 63303 Dreieich
END:VEVENT
BEGIN:VEVENT
DTSTAMP:20260421T174520
DTSTART;TZID=Europe/Berlin:20260324T180000
DTEND;TZID=Europe/Berlin:20260324T211500
UID:261D040468-20260324T180000@VHS KREISOFFENBACH
SUMMARY:Deutsch als Fremdsprache B2 (261D040468) 
LOCATION:Haus des Lebenslangen Lernens, Raum 4.209, Frankfurter Str. 160-166, 63303 Dreieich
END:VEVENT
BEGIN:VEVENT
DTSTAMP:20260421T174520
DTSTART;TZID=Europe/Berlin:20260325T180000
DTEND;TZID=Europe/Berlin:20260325T211500
UID:261D040468-20260325T180000@VHS KREISOFFENBACH
SUMMARY:Deutsch als Fremdsprache B2 (261D040468) 
LOCATION:Haus des Lebenslangen Lernens, Raum 4.209, Frankfurter Str. 160-166, 63303 Dreieich
END:VEVENT
BEGIN:VEVENT
DTSTAMP:20260421T174520
DTSTART;TZID=Europe/Berlin:20260326T180000
DTEND;TZID=Europe/Berlin:20260326T211500
UID:261D040468-20260326T180000@VHS KREISOFFENBACH
DESCRIPTION:Ersatz für Ausfall am 23.03.2026
SUMMARY:Deutsch als Fremdsprache B2 (261D040468) 
LOCATION:Haus des Lebenslangen Lernens, Raum 4.209, Frankfurter Str. 160-166, 63303 Dreieich
END:VEVENT
BEGIN:VEVENT
DTSTAMP:20260421T174520
DTSTART;TZID=Europe/Berlin:20260414T180000
DTEND;TZID=Europe/Berlin:20260414T211500
UID:261D040468-20260414T180000@VHS KREISOFFENBACH
SUMMARY:Deutsch als Fremdsprache B2 (261D040468) 
LOCATION:Haus des Lebenslangen Lernens, Raum 4.209, Frankfurter Str. 160-166, 63303 Dreieich
END:VEVENT
BEGIN:VEVENT
DTSTAMP:20260421T174520
DTSTART;TZID=Europe/Berlin:20260415T180000
DTEND;TZID=Europe/Berlin:20260415T211500
UID:261D040468-20260415T180000@VHS KREISOFFENBACH
SUMMARY:Deutsch als Fremdsprache B2 (261D040468) 
LOCATION:Haus des Lebenslangen Lernens, Raum 4.209, Frankfurter Str. 160-166, 63303 Dreieich
END:VEVENT
BEGIN:VEVENT
DTSTAMP:20260421T174520
DTSTART;TZID=Europe/Berlin:20260420T180000
DTEND;TZID=Europe/Berlin:20260420T211500
UID:261D040468-20260420T180000@VHS KREISOFFENBACH
SUMMARY:Deutsch als Fremdsprache B2 (261D040468) 
LOCATION:Haus des Lebenslangen Lernens, Raum 4.209, Frankfurter Str. 160-166, 63303 Dreieich
END:VEVENT
BEGIN:VEVENT
DTSTAMP:20260421T174520
DTSTART;TZID=Europe/Berlin:20260421T180000
DTEND;TZID=Europe/Berlin:20260421T211500
UID:261D040468-20260421T180000@VHS KREISOFFENBACH
SUMMARY:Deutsch als Fremdsprache B2 (261D040468) 
LOCATION:Haus des Lebenslangen Lernens, Raum 4.209, Frankfurter Str. 160-166, 63303 Dreieich
END:VEVENT
BEGIN:VEVENT
DTSTAMP:20260421T174520
DTSTART;TZID=Europe/Berlin:20260422T180000
DTEND;TZID=Europe/Berlin:20260422T211500
UID:261D040468-20260422T180000@VHS KREISOFFENBACH
SUMMARY:Deutsch als Fremdsprache B2 (261D040468) 
LOCATION:Haus des Lebenslangen Lernens, Raum 4.209, Frankfurter Str. 160-166, 63303 Dreieich
END:VEVENT
BEGIN:VEVENT
DTSTAMP:20260421T174520
DTSTART;TZID=Europe/Berlin:20260424T180000
DTEND;TZID=Europe/Berlin:20260424T211500
UID:261D040468-20260424T180000@VHS KREISOFFENBACH
DESCRIPTION:Ersatz für Ausfall am 18.02.2026
SUMMARY:Deutsch als Fremdsprache B2 (261D040468) 
LOCATION:Haus des Lebenslangen Lernens, Raum 4.209, Frankfurter Str. 160-166, 63303 Dreieich
END:VEVENT
BEGIN:VEVENT
DTSTAMP:20260421T174520
DTSTART;TZID=Europe/Berlin:20260427T180000
DTEND;TZID=Europe/Berlin:20260427T211500
UID:261D040468-20260427T180000@VHS KREISOFFENBACH
SUMMARY:Deutsch als Fremdsprache B2 (261D040468) 
LOCATION:Haus des Lebenslangen Lernens, Raum 4.209, Frankfurter Str. 160-166, 63303 Dreieich
END:VEVENT
BEGIN:VEVENT
DTSTAMP:20260421T174520
DTSTART;TZID=Europe/Berlin:20260428T180000
DTEND;TZID=Europe/Berlin:20260428T211500
UID:261D040468-20260428T180000@VHS KREISOFFENBACH
SUMMARY:Deutsch als Fremdsprache B2 (261D040468) 
LOCATION:Haus des Lebenslangen Lernens, Raum 4.209, Frankfurter Str. 160-166, 63303 Dreieich
END:VEVENT
BEGIN:VEVENT
DTSTAMP:20260421T174520
DTSTART;TZID=Europe/Berlin:20260429T180000
DTEND;TZID=Europe/Berlin:20260429T211500
UID:261D040468-20260429T180000@VHS KREISOFFENBACH
SUMMARY:Deutsch als Fremdsprache B2 (261D040468) 
LOCATION:Haus des Lebenslangen Lernens, Raum 4.209, Frankfurter Str. 160-166, 63303 Dreieich
END:VEVENT
BEGIN:VEVENT
DTSTAMP:20260421T174520
DTSTART;TZID=Europe/Berlin:20260504T180000
DTEND;TZID=Europe/Berlin:20260504T211500
UID:261D040468-20260504T180000@VHS KREISOFFENBACH
SUMMARY:Deutsch als Fremdsprache B2 (261D040468) 
LOCATION:Haus des Lebenslangen Lernens, Raum 4.209, Frankfurter Str. 160-166, 63303 Dreieich
END:VEVENT
BEGIN:VEVENT
DTSTAMP:20260421T174520
DTSTART;TZID=Europe/Berlin:20260505T180000
DTEND;TZID=Europe/Berlin:20260505T211500
UID:261D040468-20260505T180000@VHS KREISOFFENBACH
SUMMARY:Deutsch als Fremdsprache B2 (261D040468) 
LOCATION:Haus des Lebenslangen Lernens, Raum 4.209, Frankfurter Str. 160-166, 63303 Dreieich
END:VEVENT
BEGIN:VEVENT
DTSTAMP:20260421T174520
DTSTART;TZID=Europe/Berlin:20260506T180000
DTEND;TZID=Europe/Berlin:20260506T211500
UID:261D040468-20260506T180000@VHS KREISOFFENBACH
SUMMARY:Deutsch als Fremdsprache B2 (261D040468) 
LOCATION:Haus des Lebenslangen Lernens, Raum 4.209, Frankfurter Str. 160-166, 63303 Dreieich
END:VEVENT
BEGIN:VEVENT
DTSTAMP:20260421T174520
DTSTART;TZID=Europe/Berlin:20260507T180000
DTEND;TZID=Europe/Berlin:20260507T211500
UID:261D040468-20260507T180000@VHS KREISOFFENBACH
DESCRIPTION:Ersatz für Ausfall am 13.04.2026
SUMMARY:Deutsch als Fremdsprache B2 (261D040468) 
LOCATION:Haus des Lebenslangen Lernens, Raum 4.209, Frankfurter Str. 160-166, 63303 Dreieich
END:VEVENT
BEGIN:VEVENT
DTSTAMP:20260421T174520
DTSTART;TZID=Europe/Berlin:20260511T180000
DTEND;TZID=Europe/Berlin:20260511T211500
UID:261D040468-20260511T180000@VHS KREISOFFENBACH
SUMMARY:Deutsch als Fremdsprache B2 (261D040468) 
LOCATION:Haus des Lebenslangen Lernens, Raum 4.209, Frankfurter Str. 160-166, 63303 Dreieich
END:VEVENT
BEGIN:VEVENT
DTSTAMP:20260421T174520
DTSTART;TZID=Europe/Berlin:20260512T180000
DTEND;TZID=Europe/Berlin:20260512T211500
UID:261D040468-20260512T180000@VHS KREISOFFENBACH
SUMMARY:Deutsch als Fremdsprache B2 (261D040468) 
LOCATION:Haus des Lebenslangen Lernens, Raum 4.209, Frankfurter Str. 160-166, 63303 Dreieich
END:VEVENT
BEGIN:VEVENT
DTSTAMP:20260421T174520
DTSTART;TZID=Europe/Berlin:20260513T180000
DTEND;TZID=Europe/Berlin:20260513T211500
UID:261D040468-20260513T180000@VHS KREISOFFENBACH
SUMMARY:Deutsch als Fremdsprache B2 (261D040468) 
LOCATION:Haus des Lebenslangen Lernens, Raum 4.209, Frankfurter Str. 160-166, 63303 Dreieich
END:VEVENT
BEGIN:VEVENT
DTSTAMP:20260421T174520
DTSTART;TZID=Europe/Berlin:20260518T180000
DTEND;TZID=Europe/Berlin:20260518T211500
UID:261D040468-20260518T180000@VHS KREISOFFENBACH
SUMMARY:Deutsch als Fremdsprache B2 (261D040468) 
LOCATION:Haus des Lebenslangen Lernens, Raum 4.209, Frankfurter Str. 160-166, 63303 Dreieich
END:VEVENT
BEGIN:VEVENT
DTSTAMP:20260421T174520
DTSTART;TZID=Europe/Berlin:20260519T180000
DTEND;TZID=Europe/Berlin:20260519T211500
UID:261D040468-20260519T180000@VHS KREISOFFENBACH
SUMMARY:Deutsch als Fremdsprache B2 (261D040468) 
LOCATION:Haus des Lebenslangen Lernens, Raum 4.209, Frankfurter Str. 160-166, 63303 Dreieich
END:VEVENT
BEGIN:VEVENT
DTSTAMP:20260421T174520
DTSTART;TZID=Europe/Berlin:20260520T180000
DTEND;TZID=Europe/Berlin:20260520T211500
UID:261D040468-20260520T180000@VHS KREISOFFENBACH
SUMMARY:Deutsch als Fremdsprache B2 (261D040468) 
LOCATION:Haus des Lebenslangen Lernens, Raum 4.209, Frankfurter Str. 160-166, 63303 Dreieich
END:VEVENT
BEGIN:VEVENT
DTSTAMP:20260421T174520
DTSTART;TZID=Europe/Berlin:20260526T180000
DTEND;TZID=Europe/Berlin:20260526T211500
UID:261D040468-20260526T180000@VHS KREISOFFENBACH
SUMMARY:Deutsch als Fremdsprache B2 (261D040468) 
LOCATION:Haus des Lebenslangen Lernens, Raum 4.209, Frankfurter Str. 160-166, 63303 Dreieich
END:VEVENT
BEGIN:VEVENT
DTSTAMP:20260421T174520
DTSTART;TZID=Europe/Berlin:20260527T180000
DTEND;TZID=Europe/Berlin:20260527T211500
UID:261D040468-20260527T180000@VHS KREISOFFENBACH
SUMMARY:Deutsch als Fremdsprache B2 (261D040468) 
LOCATION:Haus des Lebenslangen Lernens, Raum 4.209, Frankfurter Str. 160-166, 63303 Dreieich
END:VEVENT
BEGIN:VEVENT
DTSTAMP:20260421T174520
DTSTART;TZID=Europe/Berlin:20260529T180000
DTEND;TZID=Europe/Berlin:20260529T211500
UID:261D040468-20260529T180000@VHS KREISOFFENBACH
DESCRIPTION:Ersatz für Ausfall am 16.03.2026
Ersatz für Ausfall am 17.04.2026
SUMMARY:Deutsch als Fremdsprache B2 (261D040468) 
LOCATION:Haus des Lebenslangen Lernens, Raum 4.209, Frankfurter Str. 160-166, 63303 Dreieich
END:VEVENT
BEGIN:VEVENT
DTSTAMP:20260421T174520
DTSTART;TZID=Europe/Berlin:20260601T180000
DTEND;TZID=Europe/Berlin:20260601T211500
UID:261D040468-20260601T180000@VHS KREISOFFENBACH
SUMMARY:Deutsch als Fremdsprache B2 (261D040468) 
LOCATION:Haus des Lebenslangen Lernens, Raum 4.209, Frankfurter Str. 160-166, 63303 Dreieich
END:VEVENT
BEGIN:VEVENT
DTSTAMP:20260421T174520
DTSTART;TZID=Europe/Berlin:20260602T180000
DTEND;TZID=Europe/Berlin:20260602T211500
UID:261D040468-20260602T180000@VHS KREISOFFENBACH
SUMMARY:Deutsch als Fremdsprache B2 (261D040468) 
LOCATION:Haus des Lebenslangen Lernens, Raum 4.209, Frankfurter Str. 160-166, 63303 Dreieich
END:VEVENT
BEGIN:VEVENT
DTSTAMP:20260421T174520
DTSTART;TZID=Europe/Berlin:20260603T180000
DTEND;TZID=Europe/Berlin:20260603T211500
UID:261D040468-20260603T180000@VHS KREISOFFENBACH
SUMMARY:Deutsch als Fremdsprache B2 (261D040468) 
LOCATION:Haus des Lebenslangen Lernens, Raum 4.209, Frankfurter Str. 160-166, 63303 Dreieich
END:VEVENT
BEGIN:VEVENT
DTSTAMP:20260421T174520
DTSTART;TZID=Europe/Berlin:20260608T180000
DTEND;TZID=Europe/Berlin:20260608T211500
UID:261D040468-20260608T180000@VHS KREISOFFENBACH
SUMMARY:Deutsch als Fremdsprache B2 (261D040468) 
LOCATION:Haus des Lebenslangen Lernens, Raum 4.209, Frankfurter Str. 160-166, 63303 Dreieich
END:VEVENT
BEGIN:VEVENT
DTSTAMP:20260421T174520
DTSTART;TZID=Europe/Berlin:20260609T180000
DTEND;TZID=Europe/Berlin:20260609T211500
UID:261D040468-20260609T180000@VHS KREISOFFENBACH
SUMMARY:Deutsch als Fremdsprache B2 (261D040468) 
LOCATION:Haus des Lebenslangen Lernens, Raum 4.209, Frankfurter Str. 160-166, 63303 Dreieich
END:VEVENT
BEGIN:VEVENT
DTSTAMP:20260421T174520
DTSTART;TZID=Europe/Berlin:20260610T180000
DTEND;TZID=Europe/Berlin:20260610T211500
UID:261D040468-20260610T180000@VHS KREISOFFENBACH
SUMMARY:Deutsch als Fremdsprache B2 (261D040468) 
LOCATION:Haus des Lebenslangen Lernens, Raum 4.209, Frankfurter Str. 160-166, 63303 Dreieich
END:VEVENT
BEGIN:VEVENT
DTSTAMP:20260421T174520
DTSTART;TZID=Europe/Berlin:20260615T180000
DTEND;TZID=Europe/Berlin:20260615T211500
UID:261D040468-20260615T180000@VHS KREISOFFENBACH
SUMMARY:Deutsch als Fremdsprache B2 (261D040468) 
LOCATION:Haus des Lebenslangen Lernens, Raum 4.209, Frankfurter Str. 160-166, 63303 Dreieich
END:VEVENT
BEGIN:VEVENT
DTSTAMP:20260421T174520
DTSTART;TZID=Europe/Berlin:20260616T180000
DTEND;TZID=Europe/Berlin:20260616T211500
UID:261D040468-20260616T180000@VHS KREISOFFENBACH
SUMMARY:Deutsch als Fremdsprache B2 (261D040468) 
LOCATION:Haus des Lebenslangen Lernens, Raum 4.209, Frankfurter Str. 160-166, 63303 Dreieich
END:VEVENT
BEGIN:VEVENT
DTSTAMP:20260421T174520
DTSTART;TZID=Europe/Berlin:20260617T180000
DTEND;TZID=Europe/Berlin:20260617T211500
UID:261D040468-20260617T180000@VHS KREISOFFENBACH
SUMMARY:Deutsch als Fremdsprache B2 (261D040468) 
LOCATION:Haus des Lebenslangen Lernens, Raum 4.209, Frankfurter Str. 160-166, 63303 Dreieich
END:VEVENT
END:VCALENDAR