BEGIN:VCALENDAR
VERSION:2.0
PRODID:https://www.kufer.de/kuferweb / DE
METHOD:PUBLISH
CALSCALE:GREGORIAN
X-WR-TIMEZONE:Europe/Berlin
BEGIN:VTIMEZONE
TZID:Europe/Berlin
X-LIC-LOCATION:Europe/Berlin
BEGIN:DAYLIGHT
TZOFFSETFROM:+0100
TZOFFSETTO:+0200
TZNAME:CEST
DTSTART:19700329T020000
RRULE:FREQ=YEARLY;INTERVAL=1;BYDAY=-1SU;BYMONTH=3
END:DAYLIGHT
BEGIN:STANDARD
TZOFFSETFROM:+0200
TZOFFSETTO:+0100
TZNAME:CET
DTSTART:19701025T030000
RRULE:FREQ=YEARLY;INTERVAL=1;BYDAY=-1SU;BYMONTH=10
END:STANDARD
END:VTIMEZONE
BEGIN:VEVENT
DTSTAMP:20260425T161029
DTSTART;TZID=Europe/Berlin:20260521T190000
DTEND;TZID=Europe/Berlin:20260521T203000
UID:261D042604-20260521T190000@VHS KREISOFFENBACH
SUMMARY:Rumänisch A1 für Anfängerinnen und Anfänger mit (sehr) geringen Vorkenntnissen - Kleingruppe (261D042604) 
LOCATION:Haus des Lebenslangen Lernens, Raum 2.111, Frankfurter Str. 160-166, 63303 Dreieich
END:VEVENT
BEGIN:VEVENT
DTSTAMP:20260425T161029
DTSTART;TZID=Europe/Berlin:20260528T190000
DTEND;TZID=Europe/Berlin:20260528T203000
UID:261D042604-20260528T190000@VHS KREISOFFENBACH
SUMMARY:Rumänisch A1 für Anfängerinnen und Anfänger mit (sehr) geringen Vorkenntnissen - Kleingruppe (261D042604) 
LOCATION:Haus des Lebenslangen Lernens, Raum 2.111, Frankfurter Str. 160-166, 63303 Dreieich
END:VEVENT
BEGIN:VEVENT
DTSTAMP:20260425T161029
DTSTART;TZID=Europe/Berlin:20260611T190000
DTEND;TZID=Europe/Berlin:20260611T203000
UID:261D042604-20260611T190000@VHS KREISOFFENBACH
SUMMARY:Rumänisch A1 für Anfängerinnen und Anfänger mit (sehr) geringen Vorkenntnissen - Kleingruppe (261D042604) 
LOCATION:Haus des Lebenslangen Lernens, Raum 2.111, Frankfurter Str. 160-166, 63303 Dreieich
END:VEVENT
BEGIN:VEVENT
DTSTAMP:20260425T161029
DTSTART;TZID=Europe/Berlin:20260618T190000
DTEND;TZID=Europe/Berlin:20260618T203000
UID:261D042604-20260618T190000@VHS KREISOFFENBACH
SUMMARY:Rumänisch A1 für Anfängerinnen und Anfänger mit (sehr) geringen Vorkenntnissen - Kleingruppe (261D042604) 
LOCATION:Haus des Lebenslangen Lernens, Raum 2.111, Frankfurter Str. 160-166, 63303 Dreieich
END:VEVENT
BEGIN:VEVENT
DTSTAMP:20260425T161029
DTSTART;TZID=Europe/Berlin:20260625T190000
DTEND;TZID=Europe/Berlin:20260625T203000
UID:261D042604-20260625T190000@VHS KREISOFFENBACH
SUMMARY:Rumänisch A1 für Anfängerinnen und Anfänger mit (sehr) geringen Vorkenntnissen - Kleingruppe (261D042604) 
LOCATION:Haus des Lebenslangen Lernens, Raum 2.111, Frankfurter Str. 160-166, 63303 Dreieich
END:VEVENT
END:VCALENDAR