BEGIN:VCALENDAR
VERSION:2.0
PRODID:https://www.kufer.de/kuferweb / DE
METHOD:PUBLISH
CALSCALE:GREGORIAN
X-WR-TIMEZONE:Europe/Berlin
BEGIN:VTIMEZONE
TZID:Europe/Berlin
X-LIC-LOCATION:Europe/Berlin
BEGIN:DAYLIGHT
TZOFFSETFROM:+0100
TZOFFSETTO:+0200
TZNAME:CEST
DTSTART:19700329T020000
RRULE:FREQ=YEARLY;INTERVAL=1;BYDAY=-1SU;BYMONTH=3
END:DAYLIGHT
BEGIN:STANDARD
TZOFFSETFROM:+0200
TZOFFSETTO:+0100
TZNAME:CET
DTSTART:19701025T030000
RRULE:FREQ=YEARLY;INTERVAL=1;BYDAY=-1SU;BYMONTH=10
END:STANDARD
END:VTIMEZONE
BEGIN:VEVENT
DTSTAMP:20260421T162652
DTSTART;TZID=Europe/Berlin:20260203T174500
DTEND;TZID=Europe/Berlin:20260203T184500
UID:261K030226-20260203T174500@VHS KREISOFFENBACH
SUMMARY:Tanzfitness - Tanz dich fit! (261K030226) 
LOCATION:Das aktuelle Fitnessstudio, Kursraum, Raiffeisenstraße 7, 63110 Rodgau
END:VEVENT
BEGIN:VEVENT
DTSTAMP:20260421T162652
DTSTART;TZID=Europe/Berlin:20260210T174500
DTEND;TZID=Europe/Berlin:20260210T184500
UID:261K030226-20260210T174500@VHS KREISOFFENBACH
SUMMARY:Tanzfitness - Tanz dich fit! (261K030226) 
LOCATION:Das aktuelle Fitnessstudio, Kursraum, Raiffeisenstraße 7, 63110 Rodgau
END:VEVENT
BEGIN:VEVENT
DTSTAMP:20260421T162652
DTSTART;TZID=Europe/Berlin:20260224T174500
DTEND;TZID=Europe/Berlin:20260224T184500
UID:261K030226-20260224T174500@VHS KREISOFFENBACH
SUMMARY:Tanzfitness - Tanz dich fit! (261K030226) 
LOCATION:Das aktuelle Fitnessstudio, Kursraum, Raiffeisenstraße 7, 63110 Rodgau
END:VEVENT
BEGIN:VEVENT
DTSTAMP:20260421T162652
DTSTART;TZID=Europe/Berlin:20260303T174500
DTEND;TZID=Europe/Berlin:20260303T184500
UID:261K030226-20260303T174500@VHS KREISOFFENBACH
SUMMARY:Tanzfitness - Tanz dich fit! (261K030226) 
LOCATION:Das aktuelle Fitnessstudio, Kursraum, Raiffeisenstraße 7, 63110 Rodgau
END:VEVENT
BEGIN:VEVENT
DTSTAMP:20260421T162652
DTSTART;TZID=Europe/Berlin:20260310T174500
DTEND;TZID=Europe/Berlin:20260310T184500
UID:261K030226-20260310T174500@VHS KREISOFFENBACH
SUMMARY:Tanzfitness - Tanz dich fit! (261K030226) 
LOCATION:Das aktuelle Fitnessstudio, Kursraum, Raiffeisenstraße 7, 63110 Rodgau
END:VEVENT
BEGIN:VEVENT
DTSTAMP:20260421T162652
DTSTART;TZID=Europe/Berlin:20260317T174500
DTEND;TZID=Europe/Berlin:20260317T184500
UID:261K030226-20260317T174500@VHS KREISOFFENBACH
SUMMARY:Tanzfitness - Tanz dich fit! (261K030226) 
LOCATION:Das aktuelle Fitnessstudio, Kursraum, Raiffeisenstraße 7, 63110 Rodgau
END:VEVENT
BEGIN:VEVENT
DTSTAMP:20260421T162652
DTSTART;TZID=Europe/Berlin:20260324T174500
DTEND;TZID=Europe/Berlin:20260324T184500
UID:261K030226-20260324T174500@VHS KREISOFFENBACH
SUMMARY:Tanzfitness - Tanz dich fit! (261K030226) 
LOCATION:Das aktuelle Fitnessstudio, Kursraum, Raiffeisenstraße 7, 63110 Rodgau
END:VEVENT
BEGIN:VEVENT
DTSTAMP:20260421T162652
DTSTART;TZID=Europe/Berlin:20260414T174500
DTEND;TZID=Europe/Berlin:20260414T184500
UID:261K030226-20260414T174500@VHS KREISOFFENBACH
SUMMARY:Tanzfitness - Tanz dich fit! (261K030226) 
LOCATION:Das aktuelle Fitnessstudio, Kursraum, Raiffeisenstraße 7, 63110 Rodgau
END:VEVENT
BEGIN:VEVENT
DTSTAMP:20260421T162652
DTSTART;TZID=Europe/Berlin:20260421T174500
DTEND;TZID=Europe/Berlin:20260421T184500
UID:261K030226-20260421T174500@VHS KREISOFFENBACH
SUMMARY:Tanzfitness - Tanz dich fit! (261K030226) 
LOCATION:Das aktuelle Fitnessstudio, Kursraum, Raiffeisenstraße 7, 63110 Rodgau
END:VEVENT
BEGIN:VEVENT
DTSTAMP:20260421T162652
DTSTART;TZID=Europe/Berlin:20260428T174500
DTEND;TZID=Europe/Berlin:20260428T184500
UID:261K030226-20260428T174500@VHS KREISOFFENBACH
DESCRIPTION:Ersatz für Ausfall am 17.02.2026
SUMMARY:Tanzfitness - Tanz dich fit! (261K030226) 
LOCATION:Das aktuelle Fitnessstudio, Kursraum, Raiffeisenstraße 7, 63110 Rodgau
END:VEVENT
END:VCALENDAR