BEGIN:VCALENDAR
VERSION:2.0
PRODID:https://www.kufer.de/kuferweb / DE
METHOD:PUBLISH
CALSCALE:GREGORIAN
X-WR-TIMEZONE:Europe/Berlin
BEGIN:VTIMEZONE
TZID:Europe/Berlin
X-LIC-LOCATION:Europe/Berlin
BEGIN:DAYLIGHT
TZOFFSETFROM:+0100
TZOFFSETTO:+0200
TZNAME:CEST
DTSTART:19700329T020000
RRULE:FREQ=YEARLY;INTERVAL=1;BYDAY=-1SU;BYMONTH=3
END:DAYLIGHT
BEGIN:STANDARD
TZOFFSETFROM:+0200
TZOFFSETTO:+0100
TZNAME:CET
DTSTART:19701025T030000
RRULE:FREQ=YEARLY;INTERVAL=1;BYDAY=-1SU;BYMONTH=10
END:STANDARD
END:VTIMEZONE
BEGIN:VEVENT
DTSTAMP:20260421T162514
DTSTART;TZID=Europe/Berlin:20260115T183000
DTEND;TZID=Europe/Berlin:20260115T194500
UID:261R030270-20260115T183000@VHS KREISOFFENBACH
SUMMARY:Kraft meets Biokinematik (261R030270) 
LOCATION:Kulturhalle, Graf-Reinhard-Saal, Dieburger Str. 27, 63322 Rödermark
END:VEVENT
BEGIN:VEVENT
DTSTAMP:20260421T162514
DTSTART;TZID=Europe/Berlin:20260122T183000
DTEND;TZID=Europe/Berlin:20260122T194500
UID:261R030270-20260122T183000@VHS KREISOFFENBACH
SUMMARY:Kraft meets Biokinematik (261R030270) 
LOCATION:Kulturhalle, Graf-Reinhard-Saal, Dieburger Str. 27, 63322 Rödermark
END:VEVENT
BEGIN:VEVENT
DTSTAMP:20260421T162514
DTSTART;TZID=Europe/Berlin:20260129T183000
DTEND;TZID=Europe/Berlin:20260129T194500
UID:261R030270-20260129T183000@VHS KREISOFFENBACH
SUMMARY:Kraft meets Biokinematik (261R030270) 
LOCATION:Kulturhalle, Graf-Reinhard-Saal, Dieburger Str. 27, 63322 Rödermark
END:VEVENT
BEGIN:VEVENT
DTSTAMP:20260421T162514
DTSTART;TZID=Europe/Berlin:20260205T183000
DTEND;TZID=Europe/Berlin:20260205T194500
UID:261R030270-20260205T183000@VHS KREISOFFENBACH
SUMMARY:Kraft meets Biokinematik (261R030270) 
LOCATION:Kulturhalle, Graf-Reinhard-Saal, Dieburger Str. 27, 63322 Rödermark
END:VEVENT
BEGIN:VEVENT
DTSTAMP:20260421T162514
DTSTART;TZID=Europe/Berlin:20260219T183000
DTEND;TZID=Europe/Berlin:20260219T194500
UID:261R030270-20260219T183000@VHS KREISOFFENBACH
SUMMARY:Kraft meets Biokinematik (261R030270) 
LOCATION:Kulturhalle, Graf-Reinhard-Saal, Dieburger Str. 27, 63322 Rödermark
END:VEVENT
BEGIN:VEVENT
DTSTAMP:20260421T162514
DTSTART;TZID=Europe/Berlin:20260226T183000
DTEND;TZID=Europe/Berlin:20260226T194500
UID:261R030270-20260226T183000@VHS KREISOFFENBACH
SUMMARY:Kraft meets Biokinematik (261R030270) 
LOCATION:Kulturhalle, Graf-Reinhard-Saal, Dieburger Str. 27, 63322 Rödermark
END:VEVENT
BEGIN:VEVENT
DTSTAMP:20260421T162514
DTSTART;TZID=Europe/Berlin:20260305T183000
DTEND;TZID=Europe/Berlin:20260305T194500
UID:261R030270-20260305T183000@VHS KREISOFFENBACH
SUMMARY:Kraft meets Biokinematik (261R030270) 
LOCATION:Kulturhalle, Graf-Reinhard-Saal, Dieburger Str. 27, 63322 Rödermark
END:VEVENT
BEGIN:VEVENT
DTSTAMP:20260421T162514
DTSTART;TZID=Europe/Berlin:20260312T183000
DTEND;TZID=Europe/Berlin:20260312T194500
UID:261R030270-20260312T183000@VHS KREISOFFENBACH
SUMMARY:Kraft meets Biokinematik (261R030270) 
LOCATION:Kulturhalle, Graf-Reinhard-Saal, Dieburger Str. 27, 63322 Rödermark
END:VEVENT
BEGIN:VEVENT
DTSTAMP:20260421T162514
DTSTART;TZID=Europe/Berlin:20260319T183000
DTEND;TZID=Europe/Berlin:20260319T194500
UID:261R030270-20260319T183000@VHS KREISOFFENBACH
SUMMARY:Kraft meets Biokinematik (261R030270) 
LOCATION:Kulturhalle, Graf-Reinhard-Saal, Dieburger Str. 27, 63322 Rödermark
END:VEVENT
BEGIN:VEVENT
DTSTAMP:20260421T162514
DTSTART;TZID=Europe/Berlin:20260326T183000
DTEND;TZID=Europe/Berlin:20260326T194500
UID:261R030270-20260326T183000@VHS KREISOFFENBACH
SUMMARY:Kraft meets Biokinematik (261R030270) 
LOCATION:Kulturhalle, Graf-Reinhard-Saal, Dieburger Str. 27, 63322 Rödermark
END:VEVENT
BEGIN:VEVENT
DTSTAMP:20260421T162514
DTSTART;TZID=Europe/Berlin:20260402T183000
DTEND;TZID=Europe/Berlin:20260402T194500
UID:261R030270-20260402T183000@VHS KREISOFFENBACH
SUMMARY:Kraft meets Biokinematik (261R030270) 
LOCATION:Kulturhalle, Graf-Reinhard-Saal, Dieburger Str. 27, 63322 Rödermark
END:VEVENT
BEGIN:VEVENT
DTSTAMP:20260421T162514
DTSTART;TZID=Europe/Berlin:20260423T183000
DTEND;TZID=Europe/Berlin:20260423T194500
UID:261R030270-20260423T183000@VHS KREISOFFENBACH
SUMMARY:Kraft meets Biokinematik (261R030270) 
LOCATION:Kulturhalle, Graf-Reinhard-Saal, Dieburger Str. 27, 63322 Rödermark
END:VEVENT
BEGIN:VEVENT
DTSTAMP:20260421T162514
DTSTART;TZID=Europe/Berlin:20260430T183000
DTEND;TZID=Europe/Berlin:20260430T194500
UID:261R030270-20260430T183000@VHS KREISOFFENBACH
SUMMARY:Kraft meets Biokinematik (261R030270) 
LOCATION:Kulturhalle, Graf-Reinhard-Saal, Dieburger Str. 27, 63322 Rödermark
END:VEVENT
BEGIN:VEVENT
DTSTAMP:20260421T162514
DTSTART;TZID=Europe/Berlin:20260507T183000
DTEND;TZID=Europe/Berlin:20260507T194500
UID:261R030270-20260507T183000@VHS KREISOFFENBACH
SUMMARY:Kraft meets Biokinematik (261R030270) 
LOCATION:Kulturhalle, Graf-Reinhard-Saal, Dieburger Str. 27, 63322 Rödermark
END:VEVENT
BEGIN:VEVENT
DTSTAMP:20260421T162514
DTSTART;TZID=Europe/Berlin:20260521T183000
DTEND;TZID=Europe/Berlin:20260521T194500
UID:261R030270-20260521T183000@VHS KREISOFFENBACH
SUMMARY:Kraft meets Biokinematik (261R030270) 
LOCATION:Kulturhalle, Graf-Reinhard-Saal, Dieburger Str. 27, 63322 Rödermark
END:VEVENT
BEGIN:VEVENT
DTSTAMP:20260421T162514
DTSTART;TZID=Europe/Berlin:20260528T183000
DTEND;TZID=Europe/Berlin:20260528T194500
UID:261R030270-20260528T183000@VHS KREISOFFENBACH
SUMMARY:Kraft meets Biokinematik (261R030270) 
LOCATION:Kulturhalle, Graf-Reinhard-Saal, Dieburger Str. 27, 63322 Rödermark
END:VEVENT
BEGIN:VEVENT
DTSTAMP:20260421T162514
DTSTART;TZID=Europe/Berlin:20260611T183000
DTEND;TZID=Europe/Berlin:20260611T194500
UID:261R030270-20260611T183000@VHS KREISOFFENBACH
SUMMARY:Kraft meets Biokinematik (261R030270) 
LOCATION:Kulturhalle, Graf-Reinhard-Saal, Dieburger Str. 27, 63322 Rödermark
END:VEVENT
BEGIN:VEVENT
DTSTAMP:20260421T162514
DTSTART;TZID=Europe/Berlin:20260618T183000
DTEND;TZID=Europe/Berlin:20260618T194500
UID:261R030270-20260618T183000@VHS KREISOFFENBACH
SUMMARY:Kraft meets Biokinematik (261R030270) 
LOCATION:Kulturhalle, Graf-Reinhard-Saal, Dieburger Str. 27, 63322 Rödermark
END:VEVENT
BEGIN:VEVENT
DTSTAMP:20260421T162514
DTSTART;TZID=Europe/Berlin:20260625T183000
DTEND;TZID=Europe/Berlin:20260625T194500
UID:261R030270-20260625T183000@VHS KREISOFFENBACH
SUMMARY:Kraft meets Biokinematik (261R030270) 
LOCATION:Kulturhalle, Graf-Reinhard-Saal, Dieburger Str. 27, 63322 Rödermark
END:VEVENT
BEGIN:VEVENT
DTSTAMP:20260421T162514
DTSTART;TZID=Europe/Berlin:20260702T183000
DTEND;TZID=Europe/Berlin:20260702T194500
UID:261R030270-20260702T183000@VHS KREISOFFENBACH
SUMMARY:Kraft meets Biokinematik (261R030270) 
LOCATION:Kulturhalle, Graf-Reinhard-Saal, Dieburger Str. 27, 63322 Rödermark
END:VEVENT
END:VCALENDAR